BEGIN:VCALENDAR
VERSION:2.0
PRODID:-//eventon.com NONSGML v1.0//EN
CALSCALE:GREGORIAN
METHOD:PUBLISH
BEGIN:VEVENT
UID:69e4e70087b8a
DTSTAMP:20260419T143024Z
DTSTART:20260530T170000Z
DTEND:20260530T170000Z
LOCATION:
SUMMARY:Melissa levensreddende operatie in de VS
DESCRIPTION:Wij (exclusivEvents samen met &#8216;The Combination&#8217;) or
 ganiseren een event op 30 mei in eventhall-ME te Maldegem waarvan alle wins
 t naar de crowdfunding gaat van Melissa D. uit Oosterzele.Ook Mario &amp; Y
 ouri van eventhall-ME staan mee achter ons concept.Kom dus ALLEMAAL naar di
 t prachtig Retro feest en steun daarmee tegelijk Melissa[..]\nhttps://exclu
 sivevents.be/events/melissa-levensreddende-operatie-in-de-vs/
URL:https://exclusivevents.be/events/melissa-levensreddende-operatie-in-de-vs/
END:VEVENT
END:VCALENDAR