BEGIN:VCALENDAR
VERSION:2.0
PRODID:-//eventon.com NONSGML v1.0//EN
CALSCALE:GREGORIAN
METHOD:PUBLISH
BEGIN:VEVENT
UID:69e4e59d77970
DTSTAMP:20260419T142429Z
DTSTART:20260604T003800Z
DTEND:20260604T003800Z
LOCATION:
SUMMARY:test
DESCRIPTION:\nhttps://exclusivevents.be/events/test/
URL:https://exclusivevents.be/events/test/
END:VEVENT
END:VCALENDAR