BEGIN:VCALENDAR
VERSION:2.0
PRODID:-//eventon.com NONSGML v1.0//EN
CALSCALE:GREGORIAN
METHOD:PUBLISH
BEGIN:VEVENT
UID:69e4e597eddf9
DTSTAMP:20260419T142423Z
DTSTART:20260430T145500Z
DTEND:20260430T145500Z
LOCATION:
SUMMARY:test2
DESCRIPTION:\nhttps://exclusivevents.be/events/test2/
URL:https://exclusivevents.be/events/test2/
END:VEVENT
END:VCALENDAR